Package: planet Version: 1.16.0 Command: /Library/Frameworks/R.framework/Resources/bin/R CMD INSTALL planet StartedAt: 2025-10-13 15:26:46 -0400 (Mon, 13 Oct 2025) EndedAt: 2025-10-13 15:26:52 -0400 (Mon, 13 Oct 2025) EllapsedTime: 5.5 seconds RetCode: 0 Status: OK