Package: planet Version: 1.16.0 Command: /Library/Frameworks/R.framework/Resources/bin/R CMD build --keep-empty-dirs --no-resave-data planet StartedAt: 2025-10-14 06:38:27 -0400 (Tue, 14 Oct 2025) EndedAt: 2025-10-14 06:39:46 -0400 (Tue, 14 Oct 2025) EllapsedTime: 78.9 seconds RetCode: 0 Status: OK PackageFile: planet_1.16.0.tar.gz PackageFileSize: 2.86 MiB