Package: pipeFrame Version: 1.26.0 Command: /home/biocbuild/bbs-3.22-bioc/R/bin/R CMD INSTALL pipeFrame StartedAt: 2025-11-11 16:03:56 -0500 (Tue, 11 Nov 2025) EndedAt: 2025-11-11 16:04:28 -0500 (Tue, 11 Nov 2025) EllapsedTime: 32.0 seconds RetCode: 0 Status: OK