Package: pipeFrame Version: 1.24.0 Command: /home/biocbuild/bbs-3.21-bioc/R/bin/R CMD INSTALL pipeFrame StartedAt: 2025-10-01 16:00:47 -0400 (Wed, 01 Oct 2025) EndedAt: 2025-10-01 16:01:20 -0400 (Wed, 01 Oct 2025) EllapsedTime: 32.2 seconds RetCode: 0 Status: OK