Package: pipeFrame Version: 1.24.0 Command: /Library/Frameworks/R.framework/Resources/bin/R CMD build --keep-empty-dirs --no-resave-data pipeFrame StartedAt: 2025-10-13 21:34:16 -0400 (Mon, 13 Oct 2025) EndedAt: 2025-10-13 21:36:09 -0400 (Mon, 13 Oct 2025) EllapsedTime: 113.1 seconds RetCode: 0 Status: OK PackageFile: pipeFrame_1.24.0.tar.gz PackageFileSize: 1.195 MiB