Package: pipeFrame Version: 1.24.0 Command: /Library/Frameworks/R.framework/Resources/bin/R CMD INSTALL pipeFrame StartedAt: 2025-10-02 18:30:52 -0400 (Thu, 02 Oct 2025) EndedAt: 2025-10-02 18:31:30 -0400 (Thu, 02 Oct 2025) EllapsedTime: 37.9 seconds RetCode: 0 Status: OK