Package: pipeComp Version: 1.20.0 Command: /home/biocbuild/R/R/bin/R CMD INSTALL pipeComp StartedAt: 2025-11-13 22:07:42 -0000 (Thu, 13 Nov 2025) EndedAt: 2025-11-13 22:09:01 -0000 (Thu, 13 Nov 2025) EllapsedTime: 78.7 seconds RetCode: 0 Status: OK