Package: pipeComp Version: 1.20.0 Command: /home/biocbuild/R/R/bin/R CMD build --keep-empty-dirs --no-resave-data pipeComp StartedAt: 2025-11-14 04:10:04 -0000 (Fri, 14 Nov 2025) EndedAt: 2025-11-14 04:12:29 -0000 (Fri, 14 Nov 2025) EllapsedTime: 145.1 seconds RetCode: 0 Status: OK PackageFile: pipeComp_1.20.0.tar.gz PackageFileSize: 2.673 MiB