Package: pipeComp Version: 1.20.0 Command: /home/biocbuild/bbs-3.22-bioc/R/bin/R CMD check --install=check:pipeComp.install-out.txt --library=/home/biocbuild/bbs-3.22-bioc/R/site-library --timings pipeComp_1.20.0.tar.gz StartedAt: 2025-11-12 02:44:24 -0500 (Wed, 12 Nov 2025) EndedAt: 2025-11-12 02:53:04 -0500 (Wed, 12 Nov 2025) EllapsedTime: 519.4 seconds RetCode: 0 Status: OK CheckDir: pipeComp.Rcheck Warnings: 0