Package: pipeComp Version: 1.20.0 Command: /home/biocbuild/bbs-3.22-bioc/R/bin/R CMD build --keep-empty-dirs --no-resave-data --md5 pipeComp StartedAt: 2025-11-11 19:24:32 -0500 (Tue, 11 Nov 2025) EndedAt: 2025-11-11 19:26:11 -0500 (Tue, 11 Nov 2025) EllapsedTime: 99.1 seconds RetCode: 0 Status: OK PackageFile: pipeComp_1.20.0.tar.gz PackageFileSize: 3.926 MiB