Package: pickgene Version: 1.82.0 Command: /home/biocbuild/bbs-3.22-bioc/R/bin/R CMD INSTALL pickgene StartedAt: 2025-11-02 15:08:43 -0500 (Sun, 02 Nov 2025) EndedAt: 2025-11-02 15:08:48 -0500 (Sun, 02 Nov 2025) EllapsedTime: 5.2 seconds RetCode: 0 Status: OK