Package: pickgene Version: 1.82.0 Command: /home/biocbuild/bbs-3.22-bioc/R/bin/R CMD build --keep-empty-dirs --no-resave-data --md5 pickgene StartedAt: 2025-10-30 19:19:17 -0400 (Thu, 30 Oct 2025) EndedAt: 2025-10-30 19:19:22 -0400 (Thu, 30 Oct 2025) EllapsedTime: 5.0 seconds RetCode: 0 Status: OK PackageFile: pickgene_1.82.0.tar.gz PackageFileSize: 305.9 KiB