Package: piano Version: 2.26.0 Command: /home/biocbuild/bbs-3.22-bioc/R/bin/R CMD build --keep-empty-dirs --no-resave-data --md5 piano StartedAt: 2025-11-06 19:18:37 -0500 (Thu, 06 Nov 2025) EndedAt: 2025-11-06 19:19:14 -0500 (Thu, 06 Nov 2025) EllapsedTime: 37.1 seconds RetCode: 0 Status: OK PackageFile: piano_2.26.0.tar.gz PackageFileSize: 1.545 MiB