Package: phyloseq Version: 1.54.0 Command: /home/biocbuild/bbs-3.22-bioc/R/bin/R CMD INSTALL phyloseq StartedAt: 2025-11-11 15:21:05 -0500 (Tue, 11 Nov 2025) EndedAt: 2025-11-11 15:21:30 -0500 (Tue, 11 Nov 2025) EllapsedTime: 24.8 seconds RetCode: 0 Status: OK