Package: phyloseq Version: 1.54.0 Command: /home/biocbuild/bbs-3.22-bioc/R/bin/R CMD build --keep-empty-dirs --no-resave-data --md5 phyloseq StartedAt: 2025-11-11 19:24:17 -0500 (Tue, 11 Nov 2025) EndedAt: 2025-11-11 19:25:57 -0500 (Tue, 11 Nov 2025) EllapsedTime: 100.1 seconds RetCode: 0 Status: OK PackageFile: phyloseq_1.54.0.tar.gz PackageFileSize: 6.133 MiB