Package: phyloseq Version: 1.52.0 Command: /home/biocbuild/bbs-3.21-bioc/R/bin/R CMD build --keep-empty-dirs --no-resave-data phyloseq StartedAt: 2025-10-15 19:09:00 -0400 (Wed, 15 Oct 2025) EndedAt: 2025-10-15 19:10:39 -0400 (Wed, 15 Oct 2025) EllapsedTime: 99.1 seconds RetCode: 0 Status: OK PackageFile: phyloseq_1.52.0.tar.gz PackageFileSize: 6.012 MiB