Package: phyloseq Version: 1.52.0 Command: /home/biocbuild/R/R/bin/R CMD INSTALL phyloseq StartedAt: 2025-10-02 20:29:26 -0000 (Thu, 02 Oct 2025) EndedAt: 2025-10-02 20:30:01 -0000 (Thu, 02 Oct 2025) EllapsedTime: 35.2 seconds RetCode: 0 Status: OK