Package: phyloseq Version: 1.52.0 Command: /home/biocbuild/R/R/bin/R CMD build --keep-empty-dirs --no-resave-data phyloseq StartedAt: 2025-10-03 03:30:22 -0000 (Fri, 03 Oct 2025) EndedAt: 2025-10-03 03:32:41 -0000 (Fri, 03 Oct 2025) EllapsedTime: 139.0 seconds RetCode: 0 Status: OK PackageFile: phyloseq_1.52.0.tar.gz PackageFileSize: 5.78 MiB