Package: phosphonormalizer Version: 1.34.0 Command: /home/biocbuild/R/R/bin/R CMD INSTALL phosphonormalizer StartedAt: 2025-11-10 21:05:57 -0000 (Mon, 10 Nov 2025) EndedAt: 2025-11-10 21:06:22 -0000 (Mon, 10 Nov 2025) EllapsedTime: 25.5 seconds RetCode: 0 Status: OK