Package: phosphonormalizer Version: 1.34.0 Command: /home/biocbuild/R/R/bin/R CMD build --keep-empty-dirs --no-resave-data phosphonormalizer StartedAt: 2025-11-14 04:09:17 -0000 (Fri, 14 Nov 2025) EndedAt: 2025-11-14 04:09:27 -0000 (Fri, 14 Nov 2025) EllapsedTime: 10.0 seconds RetCode: 0 Status: OK PackageFile: phosphonormalizer_1.34.0.tar.gz PackageFileSize: 2.68 MiB