Package: phosphonormalizer Version: 1.33.0 Command: chmod a+r phosphonormalizer -R && F:\biocbuild\bbs-3.22-bioc\R\bin\R.exe CMD build --keep-empty-dirs --no-resave-data phosphonormalizer StartedAt: 2025-08-14 22:19:43 -0400 (Thu, 14 Aug 2025) EndedAt: 2025-08-14 22:19:58 -0400 (Thu, 14 Aug 2025) EllapsedTime: 15.0 seconds RetCode: 0 Status: OK PackageFile: phosphonormalizer_1.33.0.tar.gz PackageFileSize: 2.586 MiB