Package: phosphonormalizer Version: 1.34.0 Command: /home/biocbuild/bbs-3.22-bioc/R/bin/R CMD INSTALL phosphonormalizer StartedAt: 2025-11-11 15:08:33 -0500 (Tue, 11 Nov 2025) EndedAt: 2025-11-11 15:08:44 -0500 (Tue, 11 Nov 2025) EllapsedTime: 11.2 seconds RetCode: 0 Status: OK