Package: phosphonormalizer Version: 1.34.0 Command: /home/biocbuild/bbs-3.22-bioc/R/bin/R CMD build --keep-empty-dirs --no-resave-data --md5 phosphonormalizer StartedAt: 2025-11-11 19:23:51 -0500 (Tue, 11 Nov 2025) EndedAt: 2025-11-11 19:23:59 -0500 (Tue, 11 Nov 2025) EllapsedTime: 8.0 seconds RetCode: 0 Status: OK PackageFile: phosphonormalizer_1.34.0.tar.gz PackageFileSize: 2.696 MiB