Package: phosphonormalizer Version: 1.32.0 Command: /Library/Frameworks/R.framework/Resources/bin/R CMD INSTALL phosphonormalizer StartedAt: 2025-10-13 15:09:04 -0400 (Mon, 13 Oct 2025) EndedAt: 2025-10-13 15:09:22 -0400 (Mon, 13 Oct 2025) EllapsedTime: 17.9 seconds RetCode: 0 Status: OK