Package: phosphonormalizer Version: 1.32.0 Command: /Library/Frameworks/R.framework/Resources/bin/R CMD build --keep-empty-dirs --no-resave-data phosphonormalizer StartedAt: 2025-10-13 21:32:32 -0400 (Mon, 13 Oct 2025) EndedAt: 2025-10-13 21:32:55 -0400 (Mon, 13 Oct 2025) EllapsedTime: 23.6 seconds RetCode: 0 Status: OK PackageFile: phosphonormalizer_1.32.0.tar.gz PackageFileSize: 2.7 MiB