Package: phosphonormalizer Version: 1.32.0 Command: /home/biocbuild/R/R/bin/R CMD INSTALL phosphonormalizer StartedAt: 2025-09-25 20:15:46 -0000 (Thu, 25 Sep 2025) EndedAt: 2025-09-25 20:16:05 -0000 (Thu, 25 Sep 2025) EllapsedTime: 19.5 seconds RetCode: 0 Status: OK