Package: phosphonormalizer Version: 1.32.0 Command: /home/biocbuild/R/R/bin/R CMD build --keep-empty-dirs --no-resave-data phosphonormalizer StartedAt: 2025-09-26 04:51:16 -0000 (Fri, 26 Sep 2025) EndedAt: 2025-09-26 04:51:26 -0000 (Fri, 26 Sep 2025) EllapsedTime: 10.0 seconds RetCode: 0 Status: OK PackageFile: phosphonormalizer_1.32.0.tar.gz PackageFileSize: 2.68 MiB