Package: philr Version: 1.36.0 Command: /Library/Frameworks/R.framework/Resources/bin/R CMD INSTALL philr StartedAt: 2025-11-10 15:05:57 -0500 (Mon, 10 Nov 2025) EndedAt: 2025-11-10 15:06:07 -0500 (Mon, 10 Nov 2025) EllapsedTime: 9.9 seconds RetCode: 0 Status: OK