Package: phenopath Version: 1.34.0 Command: /home/biocbuild/bbs-3.22-bioc/R/bin/R CMD INSTALL phenopath StartedAt: 2025-11-11 15:21:35 -0500 (Tue, 11 Nov 2025) EndedAt: 2025-11-11 15:22:07 -0500 (Tue, 11 Nov 2025) EllapsedTime: 32.2 seconds RetCode: 0 Status: OK