Package: phenopath Version: 1.34.0 Command: /home/biocbuild/bbs-3.22-bioc/R/bin/R CMD build --keep-empty-dirs --no-resave-data --md5 phenopath StartedAt: 2025-11-11 19:23:39 -0500 (Tue, 11 Nov 2025) EndedAt: 2025-11-11 19:24:31 -0500 (Tue, 11 Nov 2025) EllapsedTime: 52.1 seconds RetCode: 0 Status: OK PackageFile: phenopath_1.34.0.tar.gz PackageFileSize: 1.335 MiB