Package: phenopath Version: 1.32.0 Command: /home/biocbuild/R/R/bin/R CMD INSTALL phenopath StartedAt: 2025-10-13 20:30:01 -0000 (Mon, 13 Oct 2025) EndedAt: 2025-10-13 20:30:55 -0000 (Mon, 13 Oct 2025) EllapsedTime: 53.3 seconds RetCode: 0 Status: OK