Package: phenopath Version: 1.34.0 Command: /Library/Frameworks/R.framework/Resources/bin/R CMD INSTALL phenopath StartedAt: 2025-11-10 15:11:14 -0500 (Mon, 10 Nov 2025) EndedAt: 2025-11-10 15:11:26 -0500 (Mon, 10 Nov 2025) EllapsedTime: 12.3 seconds RetCode: 0 Status: OK