Package: phenopath Version: 1.34.0 Command: rm -rf phenopath.buildbin-libdir && mkdir phenopath.buildbin-libdir && /Users/biocbuild/BBS/utils/build-universal.sh phenopath_1.34.0.tar.gz /Library/Frameworks/R.framework/Resources/bin/R phenopath.buildbin-libdir StartedAt: 2025-11-10 23:31:02 -0500 (Mon, 10 Nov 2025) EndedAt: 2025-11-10 23:31:16 -0500 (Mon, 10 Nov 2025) EllapsedTime: 14.3 seconds RetCode: 0 Status: OK PackageFile: phenopath_1.34.0.tgz PackageFileSize: 1.025 MiB