Package: phenomis Version: 1.12.0 Command: /home/biocbuild/bbs-3.22-bioc/R/bin/R CMD build --keep-empty-dirs --no-resave-data --md5 phenomis StartedAt: 2025-11-03 19:21:05 -0500 (Mon, 03 Nov 2025) EndedAt: 2025-11-03 19:22:32 -0500 (Mon, 03 Nov 2025) EllapsedTime: 87.1 seconds RetCode: 0 Status: OK PackageFile: phenomis_1.12.0.tar.gz PackageFileSize: 3.98 MiB