Package: phenoTest Version: 1.56.0 Command: /home/biocbuild/R/R/bin/R CMD INSTALL phenoTest StartedAt: 2025-10-13 20:45:09 -0000 (Mon, 13 Oct 2025) EndedAt: 2025-10-13 20:45:59 -0000 (Mon, 13 Oct 2025) EllapsedTime: 49.9 seconds RetCode: 0 Status: OK