Package: phenoTest Version: 1.56.0 Command: /home/biocbuild/R/R/bin/R CMD build --keep-empty-dirs --no-resave-data phenoTest StartedAt: 2025-10-14 03:30:51 -0000 (Tue, 14 Oct 2025) EndedAt: 2025-10-14 03:32:08 -0000 (Tue, 14 Oct 2025) EllapsedTime: 77.0 seconds RetCode: 0 Status: OK PackageFile: phenoTest_1.56.0.tar.gz PackageFileSize: 1.265 MiB