Package: phenoTest Version: 1.58.0 Command: /Library/Frameworks/R.framework/Resources/bin/R CMD INSTALL phenoTest StartedAt: 2025-11-06 15:10:07 -0500 (Thu, 06 Nov 2025) EndedAt: 2025-11-06 15:10:20 -0500 (Thu, 06 Nov 2025) EllapsedTime: 13.2 seconds RetCode: 0 Status: OK