Package: phenoTest Version: 1.58.0 Command: /Library/Frameworks/R.framework/Resources/bin/R CMD build --keep-empty-dirs --no-resave-data phenoTest StartedAt: 2025-11-06 17:20:15 -0500 (Thu, 06 Nov 2025) EndedAt: 2025-11-06 17:20:38 -0500 (Thu, 06 Nov 2025) EllapsedTime: 23.2 seconds RetCode: 0 Status: OK PackageFile: phenoTest_1.58.0.tar.gz PackageFileSize: 1.273 MiB