Package: phantasusLite Version: 1.8.0 Command: /home/biocbuild/bbs-3.22-bioc/R/bin/R CMD INSTALL phantasusLite StartedAt: 2025-11-11 16:04:07 -0500 (Tue, 11 Nov 2025) EndedAt: 2025-11-11 16:04:24 -0500 (Tue, 11 Nov 2025) EllapsedTime: 16.4 seconds RetCode: 0 Status: OK