Package: phantasusLite Version: 1.6.0 Command: /home/biocbuild/R/R/bin/R CMD INSTALL phantasusLite StartedAt: 2025-10-13 21:17:10 -0000 (Mon, 13 Oct 2025) EndedAt: 2025-10-13 21:17:35 -0000 (Mon, 13 Oct 2025) EllapsedTime: 25.6 seconds RetCode: 0 Status: OK