Package: phantasusLite Version: 1.6.0 Command: /home/biocbuild/R/R/bin/R CMD build --keep-empty-dirs --no-resave-data phantasusLite StartedAt: 2025-10-14 03:29:56 -0000 (Tue, 14 Oct 2025) EndedAt: 2025-10-14 03:31:43 -0000 (Tue, 14 Oct 2025) EllapsedTime: 107.1 seconds RetCode: 0 Status: OK PackageFile: phantasusLite_1.6.0.tar.gz PackageFileSize: 259.3 KiB