Package: pgxRpi Version: 1.6.0 Command: /home/biocbuild/R/R/bin/R CMD INSTALL pgxRpi StartedAt: 2025-11-20 22:22:39 -0000 (Thu, 20 Nov 2025) EndedAt: 2025-11-20 22:22:43 -0000 (Thu, 20 Nov 2025) EllapsedTime: 4.0 seconds RetCode: 0 Status: OK