Package: pgxRpi Version: 1.6.0 Command: /home/biocbuild/R/R/bin/R CMD build --keep-empty-dirs --no-resave-data pgxRpi StartedAt: 2025-11-21 04:45:03 -0000 (Fri, 21 Nov 2025) EndedAt: 2025-11-21 04:55:23 -0000 (Fri, 21 Nov 2025) EllapsedTime: 620.4 seconds RetCode: 0 Status: OK PackageFile: pgxRpi_1.6.0.tar.gz PackageFileSize: 1.696 MiB