Package: pgxRpi Version: 1.6.0 Command: /home/biocbuild/bbs-3.22-bioc/R/bin/R CMD INSTALL pgxRpi StartedAt: 2025-11-11 15:35:27 -0500 (Tue, 11 Nov 2025) EndedAt: 2025-11-11 15:35:30 -0500 (Tue, 11 Nov 2025) EllapsedTime: 3.9 seconds RetCode: 0 Status: OK