Package: pgxRpi Version: 1.6.0 Command: /home/biocbuild/bbs-3.22-bioc/R/bin/R CMD check --install=check:pgxRpi.install-out.txt --library=/home/biocbuild/bbs-3.22-bioc/R/site-library --timings pgxRpi_1.6.0.tar.gz StartedAt: 2025-11-12 02:40:31 -0500 (Wed, 12 Nov 2025) EndedAt: 2025-11-12 02:56:10 -0500 (Wed, 12 Nov 2025) EllapsedTime: 938.8 seconds RetCode: 0 Status: OK CheckDir: pgxRpi.Rcheck Warnings: 0