Package: pgxRpi Version: 1.6.0 Command: /home/biocbuild/bbs-3.22-bioc/R/bin/R CMD build --keep-empty-dirs --no-resave-data --md5 pgxRpi StartedAt: 2025-11-11 19:23:06 -0500 (Tue, 11 Nov 2025) EndedAt: 2025-11-11 19:29:55 -0500 (Tue, 11 Nov 2025) EllapsedTime: 409.3 seconds RetCode: 0 Status: OK PackageFile: pgxRpi_1.6.0.tar.gz PackageFileSize: 2.789 MiB