Package: pgxRpi Version: 1.4.4 Command: /Library/Frameworks/R.framework/Resources/bin/R CMD INSTALL pgxRpi StartedAt: 2025-10-13 16:51:10 -0400 (Mon, 13 Oct 2025) EndedAt: 2025-10-13 16:51:15 -0400 (Mon, 13 Oct 2025) EllapsedTime: 4.5 seconds RetCode: 0 Status: OK