Package: pgxRpi Version: 1.4.4 Command: /Library/Frameworks/R.framework/Resources/bin/R CMD build --keep-empty-dirs --no-resave-data pgxRpi StartedAt: 2025-10-14 06:29:49 -0400 (Tue, 14 Oct 2025) EndedAt: 2025-10-14 06:36:31 -0400 (Tue, 14 Oct 2025) EllapsedTime: 402.7 seconds RetCode: 0 Status: OK PackageFile: pgxRpi_1.4.4.tar.gz PackageFileSize: 2.938 MiB