Package: pgxRpi Version: 1.4.4 Maintainer: Hangjia Zhao MaintainerEmail: hangjia.zhao at uzh.ch git_url: https://git.bioconductor.org/packages/pgxRpi git_branch: RELEASE_3_21 git_last_commit: 8fd14e2 git_last_commit_date: 2025-08-17 00:48:16 -0400 (Sun, 17 Aug 2025)