Package: pgca Version: 1.34.0 Command: /Library/Frameworks/R.framework/Resources/bin/R CMD build --keep-empty-dirs --no-resave-data pgca StartedAt: 2025-11-10 17:20:37 -0500 (Mon, 10 Nov 2025) EndedAt: 2025-11-10 17:20:40 -0500 (Mon, 10 Nov 2025) EllapsedTime: 3.0 seconds RetCode: 0 Status: OK PackageFile: pgca_1.34.0.tar.gz PackageFileSize: 217.6 KiB